BEGIN:VCALENDAR
VERSION:2.0
PRODID:-//Écoles SORALIA Liège · Verviers · Waremme - ECPv6.15.20//NONSGML v1.0//EN
CALSCALE:GREGORIAN
METHOD:PUBLISH
X-WR-CALNAME:Écoles SORALIA Liège · Verviers · Waremme
X-ORIGINAL-URL:https://www.ecoles-soralia-liege.be
X-WR-CALDESC:Évènements pour Écoles SORALIA Liège · Verviers · Waremme
REFRESH-INTERVAL;VALUE=DURATION:PT1H
X-Robots-Tag:noindex
X-PUBLISHED-TTL:PT1H
BEGIN:VTIMEZONE
TZID:Europe/Paris
BEGIN:DAYLIGHT
TZOFFSETFROM:+0100
TZOFFSETTO:+0200
TZNAME:CEST
DTSTART:20250330T010000
END:DAYLIGHT
BEGIN:STANDARD
TZOFFSETFROM:+0200
TZOFFSETTO:+0100
TZNAME:CET
DTSTART:20251026T010000
END:STANDARD
BEGIN:DAYLIGHT
TZOFFSETFROM:+0100
TZOFFSETTO:+0200
TZNAME:CEST
DTSTART:20260329T010000
END:DAYLIGHT
BEGIN:STANDARD
TZOFFSETFROM:+0200
TZOFFSETTO:+0100
TZNAME:CET
DTSTART:20261025T010000
END:STANDARD
BEGIN:DAYLIGHT
TZOFFSETFROM:+0100
TZOFFSETTO:+0200
TZNAME:CEST
DTSTART:20270328T010000
END:DAYLIGHT
BEGIN:STANDARD
TZOFFSETFROM:+0200
TZOFFSETTO:+0100
TZNAME:CET
DTSTART:20271031T010000
END:STANDARD
END:VTIMEZONE
BEGIN:VEVENT
DTSTART;TZID=Europe/Paris:20260610T140000
DTEND;TZID=Europe/Paris:20260610T180000
DTSTAMP:20260423T054514
CREATED:20260422T170200Z
LAST-MODIFIED:20260422T171724Z
UID:6631-1781100000-1781114400@www.ecoles-soralia-liege.be
SUMMARY:Classes Ouvertes à Anthisnes
DESCRIPTION:Classes ouvertes de : \n\nCours d’expressions manuelles\nCouture\n\nTricot\n\n\nDes activités pour les enfants seront proposées
URL:https://www.ecoles-soralia-liege.be/event/classes-ouvertes-a-anthisnes/
LOCATION:Salle communale Anthisnes\, Rue du Centre 25\, Anthisnes\, 4160\, Belgique
END:VEVENT
END:VCALENDAR