BEGIN:VCALENDAR
VERSION:2.0
PRODID:-//Écoles SORALIA Liège · Verviers · Waremme - ECPv6.15.20//NONSGML v1.0//EN
CALSCALE:GREGORIAN
METHOD:PUBLISH
X-ORIGINAL-URL:https://www.ecoles-soralia-liege.be
X-WR-CALDESC:Évènements pour Écoles SORALIA Liège · Verviers · Waremme
REFRESH-INTERVAL;VALUE=DURATION:PT1H
X-Robots-Tag:noindex
X-PUBLISHED-TTL:PT1H
BEGIN:VTIMEZONE
TZID:Europe/Paris
BEGIN:DAYLIGHT
TZOFFSETFROM:+0100
TZOFFSETTO:+0200
TZNAME:CEST
DTSTART:20250330T010000
END:DAYLIGHT
BEGIN:STANDARD
TZOFFSETFROM:+0200
TZOFFSETTO:+0100
TZNAME:CET
DTSTART:20251026T010000
END:STANDARD
BEGIN:DAYLIGHT
TZOFFSETFROM:+0100
TZOFFSETTO:+0200
TZNAME:CEST
DTSTART:20260329T010000
END:DAYLIGHT
BEGIN:STANDARD
TZOFFSETFROM:+0200
TZOFFSETTO:+0100
TZNAME:CET
DTSTART:20261025T010000
END:STANDARD
BEGIN:DAYLIGHT
TZOFFSETFROM:+0100
TZOFFSETTO:+0200
TZNAME:CEST
DTSTART:20270328T010000
END:DAYLIGHT
BEGIN:STANDARD
TZOFFSETFROM:+0200
TZOFFSETTO:+0100
TZNAME:CET
DTSTART:20271031T010000
END:STANDARD
END:VTIMEZONE
BEGIN:VEVENT
DTSTART;TZID=Europe/Paris:20260923T090000
DTEND;TZID=Europe/Paris:20260923T090000
DTSTAMP:20260425T121545
CREATED:20260312T131602Z
LAST-MODIFIED:20260327T143449Z
UID:6173-1790154000-1790154000@www.ecoles-soralia-liege.be
SUMMARY:S. Info : CEB  • Liège
DESCRIPTION:Séances d’info • CEB (Certificat d’études de base)\n\nMercredi 23 septembre à 9h\n\nAprès la séance d’info:\nTest + questionnaire de présentation + entretien + inscriptions le 23/09 \nToutes les informations sur les inscriptions dans nos écoles sont ici : page inscription\nToutes les séances d’infos de nos écoles de Liège sont là : Liège \n 
URL:https://www.ecoles-soralia-liege.be/event/si-ceb-liege/
LOCATION:École SORALIA • Liège  Darchis\, Rue Darchis\, 20\, Liège\, 4000\, Belgique
CATEGORIES:Séances d'Infos
ATTACH;FMTTYPE=image/jpeg:https://www.ecoles-soralia-liege.be/wp-content/uploads/2023/12/CEB.jpg
ORGANIZER;CN="%C3%89cole SORALIA %E2%80%A2 Li%C3%A8ge Darchis":MAILTO:info@ecoles-soralia-liege.be
END:VEVENT
END:VCALENDAR