BEGIN:VCALENDAR
VERSION:2.0
PRODID:-//Écoles SORALIA Liège · Verviers · Waremme - ECPv6.15.20//NONSGML v1.0//EN
CALSCALE:GREGORIAN
METHOD:PUBLISH
X-WR-CALNAME:Écoles SORALIA Liège · Verviers · Waremme
X-ORIGINAL-URL:https://www.ecoles-soralia-liege.be
X-WR-CALDESC:Évènements pour Écoles SORALIA Liège · Verviers · Waremme
REFRESH-INTERVAL;VALUE=DURATION:PT1H
X-Robots-Tag:noindex
X-PUBLISHED-TTL:PT1H
BEGIN:VTIMEZONE
TZID:Europe/Paris
BEGIN:DAYLIGHT
TZOFFSETFROM:+0100
TZOFFSETTO:+0200
TZNAME:CEST
DTSTART:20240331T010000
END:DAYLIGHT
BEGIN:STANDARD
TZOFFSETFROM:+0200
TZOFFSETTO:+0100
TZNAME:CET
DTSTART:20241027T010000
END:STANDARD
BEGIN:DAYLIGHT
TZOFFSETFROM:+0100
TZOFFSETTO:+0200
TZNAME:CEST
DTSTART:20250330T010000
END:DAYLIGHT
BEGIN:STANDARD
TZOFFSETFROM:+0200
TZOFFSETTO:+0100
TZNAME:CET
DTSTART:20251026T010000
END:STANDARD
BEGIN:DAYLIGHT
TZOFFSETFROM:+0100
TZOFFSETTO:+0200
TZNAME:CEST
DTSTART:20260329T010000
END:DAYLIGHT
BEGIN:STANDARD
TZOFFSETFROM:+0200
TZOFFSETTO:+0100
TZNAME:CET
DTSTART:20261025T010000
END:STANDARD
END:VTIMEZONE
BEGIN:VEVENT
DTSTART;TZID=Europe/Paris:20250903T093000
DTEND;TZID=Europe/Paris:20250903T093000
DTSTAMP:20260425T134919
CREATED:20250602T173307Z
LAST-MODIFIED:20260317T103650Z
UID:5440-1756891800-1756891800@www.ecoles-soralia-liege.be
SUMMARY:SI CESS  • Liège
DESCRIPTION:Séances d’info •  CESS – Certificat d’Enseignement Secondaire Supérieur\n\nMercredi 3 septembre à 9h30 \nEntretiens le 4/09 dès 9h Tests du 8/9 au 12/9 \nRentrée : 17 septembre 2025 \nToutes les informations sur les inscriptions dans nos écoles sont ici : page inscription\nToutes les séances d’infos de nos écoles de Liège sont là : Liège
URL:https://www.ecoles-soralia-liege.be/event/si-cess/
LOCATION:École SORALIA • Liège  Darchis\, Rue Darchis\, 20\, Liège\, 4000\, Belgique
CATEGORIES:Séances d'Infos
ATTACH;FMTTYPE=image/jpeg:https://www.ecoles-soralia-liege.be/wp-content/uploads/2023/12/CESS.jpg
ORGANIZER;CN="%C3%89cole SORALIA %E2%80%A2 Li%C3%A8ge Darchis":MAILTO:info@ecoles-soralia-liege.be
END:VEVENT
BEGIN:VEVENT
DTSTART;TZID=Europe/Paris:20250918T150000
DTEND;TZID=Europe/Paris:20250918T180000
DTSTAMP:20260425T134919
CREATED:20240603T171846Z
LAST-MODIFIED:20250613T071955Z
UID:2822-1758207600-1758218400@www.ecoles-soralia-liege.be
SUMMARY:SI Complément CESS • Liège
DESCRIPTION:Séances d’info • Complément CESS\n(Associé à certaines formations métier) \nJeudi 18 septembre à 15h ou à 18h \nToutes les informations sur les inscriptions dans nos écoles sont ici : page inscription \nToutes les séances d’infos de nos écoles de Liège sont là : Liège \n 
URL:https://www.ecoles-soralia-liege.be/event/si-complement-cess/
LOCATION:École SORALIA • Liège  Darchis\, Rue Darchis\, 20\, Liège\, 4000\, Belgique
CATEGORIES:Séances d'Infos
ATTACH;FMTTYPE=image/jpeg:https://www.ecoles-soralia-liege.be/wp-content/uploads/2024/01/Complement-CESS.jpg
ORGANIZER;CN="%C3%89cole SORALIA %E2%80%A2 Li%C3%A8ge Darchis":MAILTO:info@ecoles-soralia-liege.be
END:VEVENT
END:VCALENDAR