BEGIN:VCALENDAR
VERSION:2.0
PRODID:-//Écoles SORALIA Liège · Verviers · Waremme - ECPv6.15.20//NONSGML v1.0//EN
CALSCALE:GREGORIAN
METHOD:PUBLISH
X-WR-CALNAME:Écoles SORALIA Liège · Verviers · Waremme
X-ORIGINAL-URL:https://www.ecoles-soralia-liege.be
X-WR-CALDESC:Évènements pour Écoles SORALIA Liège · Verviers · Waremme
REFRESH-INTERVAL;VALUE=DURATION:PT1H
X-Robots-Tag:noindex
X-PUBLISHED-TTL:PT1H
BEGIN:VTIMEZONE
TZID:Europe/Paris
BEGIN:DAYLIGHT
TZOFFSETFROM:+0100
TZOFFSETTO:+0200
TZNAME:CEST
DTSTART:20250330T010000
END:DAYLIGHT
BEGIN:STANDARD
TZOFFSETFROM:+0200
TZOFFSETTO:+0100
TZNAME:CET
DTSTART:20251026T010000
END:STANDARD
BEGIN:DAYLIGHT
TZOFFSETFROM:+0100
TZOFFSETTO:+0200
TZNAME:CEST
DTSTART:20260329T010000
END:DAYLIGHT
BEGIN:STANDARD
TZOFFSETFROM:+0200
TZOFFSETTO:+0100
TZNAME:CET
DTSTART:20261025T010000
END:STANDARD
BEGIN:DAYLIGHT
TZOFFSETFROM:+0100
TZOFFSETTO:+0200
TZNAME:CEST
DTSTART:20270328T010000
END:DAYLIGHT
BEGIN:STANDARD
TZOFFSETFROM:+0200
TZOFFSETTO:+0100
TZNAME:CET
DTSTART:20271031T010000
END:STANDARD
END:VTIMEZONE
BEGIN:VEVENT
DTSTART;TZID=Europe/Paris:20260915T090000
DTEND;TZID=Europe/Paris:20260915T110000
DTSTAMP:20260425T000554
CREATED:20260312T154344Z
LAST-MODIFIED:20260327T143354Z
UID:6224-1789462800-1789470000@www.ecoles-soralia-liege.be
SUMMARY:S. Info : Auxiliaire de l'enfance • Liège
DESCRIPTION:Séances d’info • Auxiliaire de l’enfance\n\nMardi 15 septembre à 9h ou à 11h\n\nQuestionnaires + Tests après la séance d’info\n+ Entretiens \ninfos : 04/223.13.74 Rue Darchis\, 20 Liège (3ème étage) \nToutes les informations sur les inscriptions dans nos écoles sont ici : page inscription\nToutes les séances d’infos de nos écoles de Liège sont là : Liège \n 
URL:https://www.ecoles-soralia-liege.be/event/si-auxiliaire-de-lenfance-liege-2/
LOCATION:École SORALIA • Liège  Darchis\, Rue Darchis\, 20\, Liège\, 4000\, Belgique
CATEGORIES:Séances d'Infos
ATTACH;FMTTYPE=image/jpeg:https://www.ecoles-soralia-liege.be/wp-content/uploads/2023/12/AUX-ENFANT.jpg
ORGANIZER;CN="%C3%89cole SORALIA %E2%80%A2 Li%C3%A8ge Darchis":MAILTO:info@ecoles-soralia-liege.be
END:VEVENT
BEGIN:VEVENT
DTSTART;TZID=Europe/Paris:20260923T130000
DTEND;TZID=Europe/Paris:20260923T130000
DTSTAMP:20260425T000554
CREATED:20260312T154901Z
LAST-MODIFIED:20260327T143409Z
UID:6229-1790168400-1790168400@www.ecoles-soralia-liege.be
SUMMARY:S. Info : Animateur·rice sportif·ve  interculturel·le de prévention • Liège
DESCRIPTION:Séances d’info • Animateur·rice sportif·ve interculturel·le de prévention\n\nMercredi 23 septembre à 13h\n\nTests après la séance d’info + Entretiens le 24/09 + inscriptions le 25/09 \nRentrée le 28 septembre 2026 \ninfos : 04/223.68.61 Rue Darchis\, 20 Liège (1er étage) \nToutes les informations sur les inscriptions dans nos écoles sont ici : page inscription\nToutes les séances d’infos de nos écoles de Liège sont là : Liège \n 
URL:https://www.ecoles-soralia-liege.be/event/si-animateur%c2%b7rice-sportif%c2%b7ve-interculturel%c2%b7le-de-prevention-liege/
LOCATION:École SORALIA • Liège  Darchis\, Rue Darchis\, 20\, Liège\, 4000\, Belgique
CATEGORIES:Séances d'Infos
ATTACH;FMTTYPE=image/jpeg:https://www.ecoles-soralia-liege.be/wp-content/uploads/2023/12/ASIP.jpg
ORGANIZER;CN="%C3%89cole SORALIA %E2%80%A2 Li%C3%A8ge Darchis":MAILTO:info@ecoles-soralia-liege.be
END:VEVENT
END:VCALENDAR