BEGIN:VCALENDAR
VERSION:2.0
PRODID:-//Écoles SORALIA Liège · Verviers · Waremme - ECPv6.15.20//NONSGML v1.0//EN
CALSCALE:GREGORIAN
METHOD:PUBLISH
X-WR-CALNAME:Écoles SORALIA Liège · Verviers · Waremme
X-ORIGINAL-URL:https://www.ecoles-soralia-liege.be
X-WR-CALDESC:Évènements pour Écoles SORALIA Liège · Verviers · Waremme
REFRESH-INTERVAL;VALUE=DURATION:PT1H
X-Robots-Tag:noindex
X-PUBLISHED-TTL:PT1H
BEGIN:VTIMEZONE
TZID:Europe/Paris
BEGIN:DAYLIGHT
TZOFFSETFROM:+0100
TZOFFSETTO:+0200
TZNAME:CEST
DTSTART:20250330T010000
END:DAYLIGHT
BEGIN:STANDARD
TZOFFSETFROM:+0200
TZOFFSETTO:+0100
TZNAME:CET
DTSTART:20251026T010000
END:STANDARD
BEGIN:DAYLIGHT
TZOFFSETFROM:+0100
TZOFFSETTO:+0200
TZNAME:CEST
DTSTART:20260329T010000
END:DAYLIGHT
BEGIN:STANDARD
TZOFFSETFROM:+0200
TZOFFSETTO:+0100
TZNAME:CET
DTSTART:20261025T010000
END:STANDARD
BEGIN:DAYLIGHT
TZOFFSETFROM:+0100
TZOFFSETTO:+0200
TZNAME:CEST
DTSTART:20270328T010000
END:DAYLIGHT
BEGIN:STANDARD
TZOFFSETFROM:+0200
TZOFFSETTO:+0100
TZNAME:CET
DTSTART:20271031T010000
END:STANDARD
END:VTIMEZONE
BEGIN:VEVENT
DTSTART;TZID=Europe/Paris:20260817T180000
DTEND;TZID=Europe/Paris:20260817T180000
DTSTAMP:20260425T055803
CREATED:20260304T133918Z
LAST-MODIFIED:20260327T142746Z
UID:6142-1786989600-1786989600@www.ecoles-soralia-liege.be
SUMMARY:S. Info : Couture et tricot • Hannut
DESCRIPTION:Séances d’info • Couture & Tricot\n\nLundi 17 août 2026 à 18h\n\nLieux des cours et de la séance d’info : Rue de l’Église 10\, 4280 Hannut\nAdresse du secrétariat : 1 Avenue de la Résistance 4300 Waremme \nToutes les informations sur les inscriptions dans nos écoles sont ici : page inscription\nToutes les séances d’infos de notre école de Waremme sont là : Waremme
URL:https://www.ecoles-soralia-liege.be/event/si-hannut-couture-et-tricot/
LOCATION:Hannut\, 10 Rue de l'église\, Hannut\, 4280\, Belgique
CATEGORIES:Séances d'Infos
ATTACH;FMTTYPE=image/jpeg:https://www.ecoles-soralia-liege.be/wp-content/uploads/2023/12/0.-SECTION_habillement.jpg
END:VEVENT
END:VCALENDAR