BEGIN:VCALENDAR
VERSION:2.0
PRODID:-//Écoles SORALIA Liège · Verviers · Waremme - ECPv6.15.20//NONSGML v1.0//EN
CALSCALE:GREGORIAN
METHOD:PUBLISH
X-ORIGINAL-URL:https://www.ecoles-soralia-liege.be
X-WR-CALDESC:Évènements pour Écoles SORALIA Liège · Verviers · Waremme
REFRESH-INTERVAL;VALUE=DURATION:PT1H
X-Robots-Tag:noindex
X-PUBLISHED-TTL:PT1H
BEGIN:VTIMEZONE
TZID:Europe/Paris
BEGIN:DAYLIGHT
TZOFFSETFROM:+0100
TZOFFSETTO:+0200
TZNAME:CEST
DTSTART:20250330T010000
END:DAYLIGHT
BEGIN:STANDARD
TZOFFSETFROM:+0200
TZOFFSETTO:+0100
TZNAME:CET
DTSTART:20251026T010000
END:STANDARD
BEGIN:DAYLIGHT
TZOFFSETFROM:+0100
TZOFFSETTO:+0200
TZNAME:CEST
DTSTART:20260329T010000
END:DAYLIGHT
BEGIN:STANDARD
TZOFFSETFROM:+0200
TZOFFSETTO:+0100
TZNAME:CET
DTSTART:20261025T010000
END:STANDARD
BEGIN:DAYLIGHT
TZOFFSETFROM:+0100
TZOFFSETTO:+0200
TZNAME:CEST
DTSTART:20270328T010000
END:DAYLIGHT
BEGIN:STANDARD
TZOFFSETFROM:+0200
TZOFFSETTO:+0100
TZNAME:CET
DTSTART:20271031T010000
END:STANDARD
END:VTIMEZONE
BEGIN:VEVENT
DTSTART;TZID=Europe/Paris:20260819T180000
DTEND;TZID=Europe/Paris:20260819T180000
DTSTAMP:20260425T042910
CREATED:20260304T134544Z
LAST-MODIFIED:20260327T142811Z
UID:6147-1787162400-1787162400@www.ecoles-soralia-liege.be
SUMMARY:S. Info : Expressions manuelles et couture • Anthisnes
DESCRIPTION:Séances d’info • Couture & Expressions Manuelles\n\nMercredi 19 août 2026 à 18h\n\nLieux des cours et de la séance d’info : Rue du Vieux Château 6\, 4160 Anthisnes\nAdresse du secrétariat : 1 Avenue de la Résistance 4300 Waremme \nToutes les informations sur les inscriptions dans nos écoles sont ici : page inscription\nToutes les séances d’infos de notre école de Waremme sont là : Waremme
URL:https://www.ecoles-soralia-liege.be/event/si-anthisnes-expression-manuelle-et-couture/
LOCATION:Anthisnes\, Rue du Vieux Château 6\, Anthisnes\, 4160\, Belgique
CATEGORIES:Séances d'Infos
ATTACH;FMTTYPE=image/jpeg:https://www.ecoles-soralia-liege.be/wp-content/uploads/2024/01/0.-SECTION_couture-init-spec22.jpg
END:VEVENT
END:VCALENDAR