BEGIN:VCALENDAR
VERSION:2.0
PRODID:-//Écoles SORALIA Liège · Verviers · Waremme - ECPv6.15.20//NONSGML v1.0//EN
CALSCALE:GREGORIAN
METHOD:PUBLISH
X-WR-CALNAME:Écoles SORALIA Liège · Verviers · Waremme
X-ORIGINAL-URL:https://www.ecoles-soralia-liege.be
X-WR-CALDESC:Évènements pour Écoles SORALIA Liège · Verviers · Waremme
REFRESH-INTERVAL;VALUE=DURATION:PT1H
X-Robots-Tag:noindex
X-PUBLISHED-TTL:PT1H
BEGIN:VTIMEZONE
TZID:Europe/Paris
BEGIN:DAYLIGHT
TZOFFSETFROM:+0100
TZOFFSETTO:+0200
TZNAME:CEST
DTSTART:20250330T010000
END:DAYLIGHT
BEGIN:STANDARD
TZOFFSETFROM:+0200
TZOFFSETTO:+0100
TZNAME:CET
DTSTART:20251026T010000
END:STANDARD
BEGIN:DAYLIGHT
TZOFFSETFROM:+0100
TZOFFSETTO:+0200
TZNAME:CEST
DTSTART:20260329T010000
END:DAYLIGHT
BEGIN:STANDARD
TZOFFSETFROM:+0200
TZOFFSETTO:+0100
TZNAME:CET
DTSTART:20261025T010000
END:STANDARD
BEGIN:DAYLIGHT
TZOFFSETFROM:+0100
TZOFFSETTO:+0200
TZNAME:CEST
DTSTART:20270328T010000
END:DAYLIGHT
BEGIN:STANDARD
TZOFFSETFROM:+0200
TZOFFSETTO:+0100
TZNAME:CET
DTSTART:20271031T010000
END:STANDARD
END:VTIMEZONE
BEGIN:VEVENT
DTSTART;TZID=Europe/Paris:20260902T100000
DTEND;TZID=Europe/Paris:20260902T100000
DTSTAMP:20260425T024720
CREATED:20260327T135257Z
LAST-MODIFIED:20260327T153512Z
UID:6367-1788343200-1788343200@www.ecoles-soralia-liege.be
SUMMARY:S. Info : Métiers de la Restauration • Verviers
DESCRIPTION:Séances d’info • Métiers de la Restauration • Verviers \n\nLe mercredi 2 septembre 2026 à 10h\n\nInscription souhaitée aux séances d’info de Verviers en téléphonant au 087 30 05 51 \nToutes les informations sur les inscriptions dans nos écoles sont ici : page inscription \nToutes les séances d’infos de notre école de Verviers sont là : Verviers
URL:https://www.ecoles-soralia-liege.be/event/si-metiers-de-la-restauration-verviers/
LOCATION:École SORALIA • Verviers\, Pont Saint-Laurent\, 16\, Verviers\, 4800\, Belgium
CATEGORIES:Séances d'Infos
ATTACH;FMTTYPE=image/jpeg:https://www.ecoles-soralia-liege.be/wp-content/uploads/2023/12/COMMIS.jpg
ORGANIZER;CN="%C3%89cole SORALIA %E2%80%A2 Verviers":MAILTO:verviers@ecoles-soralia-liege.be
END:VEVENT
BEGIN:VEVENT
DTSTART;TZID=Europe/Paris:20260903T100000
DTEND;TZID=Europe/Paris:20260903T100000
DTSTAMP:20260425T024720
CREATED:20260327T144315Z
LAST-MODIFIED:20260327T153522Z
UID:6415-1788429600-1788429600@www.ecoles-soralia-liege.be
SUMMARY:S. Info : Métiers de la Couture • Verviers
DESCRIPTION:Séances d’info • Métiers de la Couture • Verviers \n\nLe jeudi 3 septembre 2026 à 10h\n\nInscription souhaitée aux séances d’info de Verviers en téléphonant au 087 30 05 51 \nToutes les informations sur les inscriptions dans nos écoles sont ici : page inscription \nToutes les séances d’infos de notre école de Verviers sont là : Verviers
URL:https://www.ecoles-soralia-liege.be/event/s-info-metiers-de-la-couture-verviers/
LOCATION:École SORALIA • Verviers\, Pont Saint-Laurent\, 16\, Verviers\, 4800\, Belgium
CATEGORIES:Séances d'Infos
ATTACH;FMTTYPE=image/jpeg:https://www.ecoles-soralia-liege.be/wp-content/uploads/2023/12/0.-SECTION_habillement.jpg
ORGANIZER;CN="%C3%89cole SORALIA %E2%80%A2 Verviers":MAILTO:verviers@ecoles-soralia-liege.be
END:VEVENT
BEGIN:VEVENT
DTSTART;TZID=Europe/Paris:20260904T100000
DTEND;TZID=Europe/Paris:20260904T100000
DTSTAMP:20260425T024720
CREATED:20260327T144504Z
LAST-MODIFIED:20260327T153323Z
UID:6413-1788516000-1788516000@www.ecoles-soralia-liege.be
SUMMARY:S. Info : Formations générales et Bureautique • Verviers
DESCRIPTION:Séances d’info • Formations générales et Bureautique  • Verviers \n\nLe vendredi 4 septembre 2026 à 10h\n\nInscription souhaitée aux séances d’info de Verviers en téléphonant au 087 30 05 51 \nToutes les informations sur les inscriptions dans nos écoles sont ici : page inscription \nToutes les séances d’infos de notre école de Verviers sont là : Verviers
URL:https://www.ecoles-soralia-liege.be/event/s-info-formations-generales-et-bureautique-verviers/
LOCATION:École SORALIA • Verviers\, Pont Saint-Laurent\, 16\, Verviers\, 4800\, Belgium
CATEGORIES:Séances d'Infos
ATTACH;FMTTYPE=image/jpeg:https://www.ecoles-soralia-liege.be/wp-content/uploads/2023/12/0-SECTION_generale.jpg
ORGANIZER;CN="%C3%89cole SORALIA %E2%80%A2 Verviers":MAILTO:verviers@ecoles-soralia-liege.be
END:VEVENT
END:VCALENDAR