BEGIN:VCALENDAR
VERSION:2.0
PRODID:-//Écoles SORALIA Liège · Verviers · Waremme - ECPv6.15.20//NONSGML v1.0//EN
CALSCALE:GREGORIAN
METHOD:PUBLISH
X-WR-CALNAME:Écoles SORALIA Liège · Verviers · Waremme
X-ORIGINAL-URL:https://www.ecoles-soralia-liege.be
X-WR-CALDESC:Évènements pour Écoles SORALIA Liège · Verviers · Waremme
REFRESH-INTERVAL;VALUE=DURATION:PT1H
X-Robots-Tag:noindex
X-PUBLISHED-TTL:PT1H
BEGIN:VTIMEZONE
TZID:Europe/Paris
BEGIN:DAYLIGHT
TZOFFSETFROM:+0100
TZOFFSETTO:+0200
TZNAME:CEST
DTSTART:20250330T010000
END:DAYLIGHT
BEGIN:STANDARD
TZOFFSETFROM:+0200
TZOFFSETTO:+0100
TZNAME:CET
DTSTART:20251026T010000
END:STANDARD
BEGIN:DAYLIGHT
TZOFFSETFROM:+0100
TZOFFSETTO:+0200
TZNAME:CEST
DTSTART:20260329T010000
END:DAYLIGHT
BEGIN:STANDARD
TZOFFSETFROM:+0200
TZOFFSETTO:+0100
TZNAME:CET
DTSTART:20261025T010000
END:STANDARD
BEGIN:DAYLIGHT
TZOFFSETFROM:+0100
TZOFFSETTO:+0200
TZNAME:CEST
DTSTART:20270328T010000
END:DAYLIGHT
BEGIN:STANDARD
TZOFFSETFROM:+0200
TZOFFSETTO:+0100
TZNAME:CET
DTSTART:20271031T010000
END:STANDARD
END:VTIMEZONE
BEGIN:VEVENT
DTSTART;TZID=Europe/Paris:20260901T090000
DTEND;TZID=Europe/Paris:20260901T110000
DTSTAMP:20260425T142208
CREATED:20260312T133740Z
LAST-MODIFIED:20260327T143301Z
UID:6189-1788253200-1788260400@www.ecoles-soralia-liege.be
SUMMARY:S. Info : Métiers du secrétariat • Liège
DESCRIPTION:Séances d’info • Métiers du secrétariat \n\nJeudi 18 juin 2025 à 9h30\nMardi 1er septembre à 9h ou 11h\n\nTests prérequis après la séance d’info\n+ Entretiens \nToutes les informations sur les inscriptions dans nos écoles sont ici : page inscription \nToutes les séances d’infos de nos écoles de Liège sont là : Liège \n  \n 
URL:https://www.ecoles-soralia-liege.be/event/si-metiers-du-secretariat-liege-2/
LOCATION:École SORALIA • Liège  Darchis\, Rue Darchis\, 20\, Liège\, 4000\, Belgique
CATEGORIES:Séances d'Infos
ATTACH;FMTTYPE=image/jpeg:https://www.ecoles-soralia-liege.be/wp-content/uploads/2023/12/0.accueil-secretariat.jpg
ORGANIZER;CN="%C3%89cole SORALIA %E2%80%A2 Li%C3%A8ge Darchis":MAILTO:info@ecoles-soralia-liege.be
END:VEVENT
END:VCALENDAR